BEGIN:VCALENDAR
VERSION:2.0
PRODID:-//wp-events-plugin.com//7.2.3.1//EN
TZID:Europe/Rome
X-WR-TIMEZONE:Europe/Rome
BEGIN:VEVENT
UID:231@decrescita.it
DTSTART:20240921T100000Z
DTEND:20240921T170000Z
DTSTAMP:20240826T120636Z
URL:https://decrescita.it/events/giornata-internazionale-della-pace/
SUMMARY:Giornata Internazionale della Pace
DESCRIPTION:Il gruppo di Roma (e non solo...) parteciperà alla mobilitazio
 ne straordinaria per la pace ad Assisi.\n\nIl programma è disponibile a q
 uesto link.\n\nhttps://www.perlapace.it/21-settembre-ad-assisi/
LOCATION:Domus Pacis\, Santa Maria degli Angeli\, Assisi\, Italia
X-APPLE-STRUCTURED-LOCATION;VALUE=URI;X-ADDRESS=Santa Maria degli Angeli\, 
 Assisi\, Italia;X-APPLE-RADIUS=100;X-TITLE=Domus Pacis:geo:0,0
END:VEVENT
END:VCALENDAR